BEGIN:VCALENDAR
VERSION:2.0
PRODID:-//pretix//pretix.eu//
BEGIN:VTIMEZONE
TZID:Europe/Berlin
BEGIN:STANDARD
DTSTART:20001029T040000
RRULE:FREQ=YEARLY;BYDAY=-1SU;BYMONTH=10
TZNAME:CET
TZOFFSETFROM:+0200
TZOFFSETTO:+0100
END:STANDARD
BEGIN:DAYLIGHT
DTSTART:20000326T030000
RRULE:FREQ=YEARLY;BYDAY=-1SU;BYMONTH=3
TZNAME:CEST
TZOFFSETFROM:+0100
TZOFFSETTO:+0200
END:DAYLIGHT
END:VTIMEZONE
BEGIN:VEVENT
UID:pretix-lernort-lnbe-20260311-0@lernort.lnbe.berlin
DTSTART;TZID=Europe/Berlin:20260311T090000
DTEND;TZID=Europe/Berlin:20260312T130000
DESCRIPTION:Tickets: https://lernort.lnbe.berlin/20260311/\nVeranstalter: L
 ernort Zivilgesellschaft im Landesnetzwerk Bürgerengagement Berlin e.V.
DTSTAMP:20260421T114732Z
LOCATION:Tag 1: Präsenz im anígo SPACE\; Urbanstraße 36\, 10967 Berlin\,
  Tag 2: online in Zoom
SUMMARY:Führen ohne Hierarchie? Laterale Führung in NGOs & Vereinen
END:VEVENT
END:VCALENDAR
