BEGIN:VCALENDAR
VERSION:2.0
PRODID:-//pretix//pretix.eu//
BEGIN:VTIMEZONE
TZID:Europe/Berlin
BEGIN:STANDARD
DTSTART:20001029T040000
RRULE:FREQ=YEARLY;BYDAY=-1SU;BYMONTH=10
TZNAME:CET
TZOFFSETFROM:+0200
TZOFFSETTO:+0100
END:STANDARD
BEGIN:DAYLIGHT
DTSTART:20000326T030000
RRULE:FREQ=YEARLY;BYDAY=-1SU;BYMONTH=3
TZNAME:CEST
TZOFFSETFROM:+0100
TZOFFSETTO:+0200
END:DAYLIGHT
END:VTIMEZONE
BEGIN:VEVENT
UID:pretix-lernort-lnbe-20260127-28-0@lernort.lnbe.berlin
DTSTART;TZID=Europe/Berlin:20260127T090000
DTEND;TZID=Europe/Berlin:20260128T160000
DESCRIPTION:Tickets: https://lernort.lnbe.berlin/20260127-28/\nVeranstalter
 : Lernort Zivilgesellschaft im Landesnetzwerk Bürgerengagement Berlin e.V
 .
DTSTAMP:20260421T095700Z
LOCATION:Bock Atelier\, Urbanstraße 125\, 10967 Berlin
SUMMARY:Projektabschluss & Verwendungsnachweis sicher meistern
END:VEVENT
END:VCALENDAR
